BEGIN:VCALENDAR
VERSION:2.0
PRODID:SchoolNow
CALSCALE:GREGORIAN
BEGIN:VEVENT
UID:6cc425a8-3f83-11f1-9070-0afff9c62fed
DTSTAMP:20260425T144513Z
SUMMARY:Track Parent Meeting  - Cafeteria
URL;VALUE=URI:https://www.tusd.org/schools/arlington/calendar/9014678/track
 -parent-meeting-cafeteria
DTSTART:20260505T231500Z
DTEND:20260505T234500Z
END:VEVENT
END:VCALENDAR
