BEGIN:VCALENDAR
VERSION:2.0
PRODID:SchoolNow
CALSCALE:GREGORIAN
BEGIN:VEVENT
UID:d3b3d2e0-378b-11f1-bbbe-0a58a9feac02
DTSTAMP:20260425T205012Z
SUMMARY:Retake Picture day
URL;VALUE=URI:https://www.tusd.org/schools/arlington/calendar/8991660/retak
 e-picture-day
DTSTART;VALUE=DATE:20261020
DTEND;VALUE=DATE:20261021
END:VEVENT
END:VCALENDAR
