BEGIN:VCALENDAR
VERSION:2.0
PRODID:SchoolNow
CALSCALE:GREGORIAN
BEGIN:VEVENT
UID:d3b3cf3e-378b-11f1-93cc-0a58a9feac02
DTSTAMP:20260425T205012Z
SUMMARY:Picture Day
URL;VALUE=URI:https://www.tusd.org/schools/arlington/calendar/8991659/pictu
 re-day
DTSTART;VALUE=DATE:20260902
DTEND;VALUE=DATE:20260903
END:VEVENT
END:VCALENDAR
