BEGIN:VCALENDAR
VERSION:2.0
PRODID:SchoolNow
CALSCALE:GREGORIAN
BEGIN:VEVENT
UID:d3b3ac98-378b-11f1-b18f-0a58a9feac02
DTSTAMP:20260425T144513Z
SUMMARY:5th Graders to Casimir
URL;VALUE=URI:https://www.tusd.org/schools/arlington/calendar/8991656/5th-g
 raders-to-casimir
DTSTART:20260427T160000Z
DTEND:20260427T170000Z
END:VEVENT
END:VCALENDAR
