BEGIN:VCALENDAR
VERSION:2.0
PRODID:SchoolNow
CALSCALE:GREGORIAN
BEGIN:VEVENT
UID:06ef0922-3390-11f1-93c8-0a58a9feac02
DTSTAMP:20260425T144513Z
SUMMARY:Wellness Week May 11-15th
URL;VALUE=URI:https://www.tusd.org/schools/arlington/calendar/8979937/welln
 ess-week-may-11-15th
DTSTART;VALUE=DATE:20260511
DTEND;VALUE=DATE:20260516
END:VEVENT
END:VCALENDAR
