BEGIN:VCALENDAR
VERSION:2.0
PRODID:SchoolNow
CALSCALE:GREGORIAN
BEGIN:VEVENT
UID:9fe8081c-27cf-11f1-8170-0ef8de80a849
DTSTAMP:20260425T144513Z
SUMMARY:Boys Track Practice
URL;VALUE=URI:https://www.tusd.org/schools/arlington/calendar/8943057/boys-
 track-practice
DTSTART:20260416T221500Z
DTEND:20260416T231500Z
END:VEVENT
END:VCALENDAR
