BEGIN:VCALENDAR
VERSION:2.0
PRODID:SchoolNow
CALSCALE:GREGORIAN
BEGIN:VEVENT
UID:9fb4a33c-27cf-11f1-b6bd-0ef8de80a849
DTSTAMP:20260425T144513Z
SUMMARY:Girls Track Practice
URL;VALUE=URI:https://www.tusd.org/schools/arlington/calendar/8943054/girls
 -track-practice
DTSTART:20260421T221500Z
DTEND:20260421T233000Z
END:VEVENT
END:VCALENDAR
