BEGIN:VCALENDAR
VERSION:2.0
PRODID:SchoolNow
CALSCALE:GREGORIAN
BEGIN:VEVENT
UID:9fb4826c-27cf-11f1-8418-0ef8de80a849
DTSTAMP:20260425T144513Z
SUMMARY:Girls Track Practice
URL;VALUE=URI:https://www.tusd.org/schools/arlington/calendar/8943052/girls
 -track-practice
DTSTART:20260407T221500Z
DTEND:20260407T233000Z
END:VEVENT
END:VCALENDAR
