BEGIN:VCALENDAR
VERSION:2.0
PRODID:SchoolNow
CALSCALE:GREGORIAN
BEGIN:VEVENT
UID:31c4fed0-1ca8-11f1-aac9-0e55a7a6c631
DTSTAMP:20260425T144513Z
SUMMARY:Talent Show Try Outs New Date
URL;VALUE=URI:https://www.tusd.org/schools/arlington/calendar/8907415/talen
 t-show-try-outs-new-date
DTSTART:20260410T223000Z
DTEND:20260410T233000Z
END:VEVENT
END:VCALENDAR
