BEGIN:VCALENDAR
VERSION:2.0
PRODID:SchoolNow
CALSCALE:GREGORIAN
BEGIN:VEVENT
UID:150fa3b0-18e0-11f1-a0a4-0a58a9feac02
DTSTAMP:20260425T144513Z
SUMMARY:5th Grade Parent Night @ CASIMIR
URL;VALUE=URI:https://www.tusd.org/schools/arlington/calendar/8894160/5th-g
 rade-parent-night-casimir
DTSTART:20260429T000000Z
DTEND:20260429T010000Z
END:VEVENT
END:VCALENDAR
