BEGIN:VCALENDAR
VERSION:2.0
PRODID:SchoolNow
CALSCALE:GREGORIAN
BEGIN:VEVENT
UID:0701686c-1219-11f1-9efb-0a58a9feac02
DTSTAMP:20260425T144513Z
SUMMARY:TUSD Bike Rodeo @ Victor Elementary
URL;VALUE=URI:https://www.tusd.org/schools/arlington/calendar/8870158/tusd-
 bike-rodeo-victor-elementary
DTSTART:20260425T160000Z
DTEND:20260425T180000Z
END:VEVENT
END:VCALENDAR
