BEGIN:VCALENDAR
VERSION:2.0
PRODID:SchoolNow
CALSCALE:GREGORIAN
BEGIN:VEVENT
UID:1f3828b4-fc96-11f0-812c-0a58a9feac02
DTSTAMP:20260425T144513Z
SUMMARY:Run Club (3rd-5th)
LOCATION:Playground (Enter through 178th Street)
URL;VALUE=URI:https://www.tusd.org/schools/arlington/calendar/8846197/run-c
 lub-3rd-5th
DTSTART:20260226T161500Z
DTEND:20260226T163500Z
END:VEVENT
END:VCALENDAR
