BEGIN:VCALENDAR
VERSION:2.0
PRODID:SchoolNow
CALSCALE:GREGORIAN
BEGIN:VEVENT
UID:2aaa223c-fbca-11f0-b52e-0affc90ec205
DTSTAMP:20260425T144513Z
SUMMARY:STEM Workshop (info@southbaystem.org)
URL;VALUE=URI:https://www.tusd.org/schools/arlington/calendar/8845287/stem-
 workshop-info-southbaystem-org
DTSTART:20260407T221500Z
DTEND:20260407T233000Z
END:VEVENT
END:VCALENDAR
