BEGIN:VCALENDAR
VERSION:2.0
PRODID:SchoolNow
CALSCALE:GREGORIAN
BEGIN:VEVENT
UID:2a906acc-fbca-11f0-b4ad-0affc90ec205
DTSTAMP:20260425T144513Z
SUMMARY:STEM Workshop (info@southbaystem.org)
URL;VALUE=URI:https://www.tusd.org/schools/arlington/calendar/8845285/stem-
 workshop-info-southbaystem-org
DTSTART:20260203T231500Z
DTEND:20260204T003000Z
END:VEVENT
END:VCALENDAR
