BEGIN:VCALENDAR
VERSION:2.0
PRODID:SchoolNow
CALSCALE:GREGORIAN
BEGIN:VEVENT
UID:2a906644-fbca-11f0-88f2-0affc90ec205
DTSTAMP:20260425T144513Z
SUMMARY:STEM Workshop (info@southbaystem.org)
URL;VALUE=URI:https://www.tusd.org/schools/arlington/calendar/8845283/stem-
 workshop-info-southbaystem-org
DTSTART:20260324T221500Z
DTEND:20260324T233000Z
END:VEVENT
END:VCALENDAR
