BEGIN:VCALENDAR
VERSION:2.0
PRODID:SchoolNow
CALSCALE:GREGORIAN
BEGIN:VEVENT
UID:2a9062e8-fbca-11f0-835a-0affc90ec205
DTSTAMP:20260425T144513Z
SUMMARY:STEM Workshop (info@southbaystem.org)
URL;VALUE=URI:https://www.tusd.org/schools/arlington/calendar/8845282/stem-
 workshop-info-southbaystem-org
DTSTART:20260310T221500Z
DTEND:20260310T233000Z
END:VEVENT
END:VCALENDAR
