BEGIN:VCALENDAR
VERSION:2.0
PRODID:SchoolNow
CALSCALE:GREGORIAN
BEGIN:VEVENT
UID:72c11fec-f636-11f0-a001-0a58a9feac02
DTSTAMP:20260425T144513Z
SUMMARY:100th day of School
URL;VALUE=URI:https://www.tusd.org/schools/arlington/calendar/8838255/100th
 -day-of-school
DTSTART;VALUE=DATE:20260205
DTEND;VALUE=DATE:20260206
END:VEVENT
END:VCALENDAR
