BEGIN:VCALENDAR
VERSION:2.0
PRODID:SchoolNow
CALSCALE:GREGORIAN
BEGIN:VEVENT
UID:dd2f00b2-edd8-11f0-9acf-0a58a9feac02
DTSTAMP:20260425T205012Z
SUMMARY:TUSD Open Enrollment Lottery Window Opens
URL;VALUE=URI:https://www.tusd.org/schools/arlington/calendar/8833992/tusd-
 open-enrollment-lottery-window-opens
DTSTART;VALUE=DATE:20260114
DTEND;VALUE=DATE:20260228
END:VEVENT
END:VCALENDAR
