BEGIN:VCALENDAR
VERSION:2.0
PRODID:SchoolNow
CALSCALE:GREGORIAN
BEGIN:VEVENT
UID:09e141f8-ea76-11f0-afcf-0a58a9feac02
DTSTAMP:20260425T144513Z
SUMMARY:TUSD Annual STEAM Fair
URL;VALUE=URI:https://www.tusd.org/schools/arlington/calendar/8828924/tusd-
 annual-steam-fair
DTSTART:20260306T010000Z
DTEND:20260306T033000Z
END:VEVENT
END:VCALENDAR
