BEGIN:VCALENDAR
VERSION:2.0
PRODID:SchoolNow
CALSCALE:GREGORIAN
BEGIN:VEVENT
UID:09e138de-ea76-11f0-a6ec-0a58a9feac02
DTSTAMP:20260425T144513Z
SUMMARY:CA Invention Convention
URL;VALUE=URI:https://www.tusd.org/schools/arlington/calendar/8828923/ca-in
 vention-convention
DTSTART;VALUE=DATE:20260418
DTEND;VALUE=DATE:20260419
END:VEVENT
END:VCALENDAR
