BEGIN:VCALENDAR
VERSION:2.0
PRODID:SchoolNow
CALSCALE:GREGORIAN
BEGIN:VEVENT
UID:b3cea184-dd50-11f0-9ee5-0a58a9feac02
DTSTAMP:20260425T144513Z
SUMMARY:2nd Gr STEAM Fair Project Due
URL;VALUE=URI:https://www.tusd.org/schools/arlington/calendar/8826522/2nd-g
 r-steam-fair-project-due
DTSTART;VALUE=DATE:20260202
DTEND;VALUE=DATE:20260203
END:VEVENT
END:VCALENDAR
