BEGIN:VCALENDAR
VERSION:2.0
PRODID:SchoolNow
CALSCALE:GREGORIAN
BEGIN:VEVENT
UID:b6b7a1da-dd1d-11f0-83fc-0eaee787abcd
DTSTAMP:20260425T205012Z
SUMMARY:3rd Grade STEAM Fair Approval Form Due
URL;VALUE=URI:https://www.tusd.org/schools/arlington/calendar/8826475/3rd-g
 rade-steam-fair-approval-form-due
DTSTART;VALUE=DATE:20260116
DTEND;VALUE=DATE:20260117
END:VEVENT
END:VCALENDAR
