BEGIN:VCALENDAR
VERSION:2.0
PRODID:SchoolNow
CALSCALE:GREGORIAN
BEGIN:VEVENT
UID:b6b7a0ae-dd1d-11f0-a57f-0eaee787abcd
DTSTAMP:20260425T205012Z
SUMMARY:4th & 5th Grade STEAM Fair Approval Form Due
URL;VALUE=URI:https://www.tusd.org/schools/arlington/calendar/8826474/4th-5
 th-grade-steam-fair-approval-form-due
DTSTART;VALUE=DATE:20260114
DTEND;VALUE=DATE:20260115
END:VEVENT
END:VCALENDAR
