BEGIN:VCALENDAR
VERSION:2.0
PRODID:SchoolNow
CALSCALE:GREGORIAN
BEGIN:VEVENT
UID:b6b79f96-dd1d-11f0-963c-0eaee787abcd
DTSTAMP:20260425T205012Z
SUMMARY:1st Grade STEAM Fair Approval Form Due
URL;VALUE=URI:https://www.tusd.org/schools/arlington/calendar/8826473/1st-g
 rade-steam-fair-approval-form-due
DTSTART;VALUE=DATE:20260107
DTEND;VALUE=DATE:20260108
END:VEVENT
END:VCALENDAR
