BEGIN:VCALENDAR
VERSION:2.0
PRODID:SchoolNow
CALSCALE:GREGORIAN
BEGIN:VEVENT
UID:b6b79672-dd1d-11f0-a49c-0eaee787abcd
DTSTAMP:20260425T205012Z
SUMMARY:TK /K STEAM Fair Approval Form Due
URL;VALUE=URI:https://www.tusd.org/schools/arlington/calendar/8826472/tk-k-
 steam-fair-approval-form-due
DTSTART;VALUE=DATE:20260109
DTEND;VALUE=DATE:20260110
END:VEVENT
END:VCALENDAR
