BEGIN:VCALENDAR
VERSION:2.0
PRODID:SchoolNow
CALSCALE:GREGORIAN
BEGIN:VEVENT
UID:b6b79280-dd1d-11f0-8018-0eaee787abcd
DTSTAMP:20260425T205012Z
SUMMARY:2nd Grade STEAM Fair Approval Form Due
URL;VALUE=URI:https://www.tusd.org/schools/arlington/calendar/8826471/2nd-g
 rade-steam-fair-approval-form-due
DTSTART;VALUE=DATE:20260108
DTEND;VALUE=DATE:20260109
END:VEVENT
END:VCALENDAR
