BEGIN:VCALENDAR
VERSION:2.0
PRODID:SchoolNow
CALSCALE:GREGORIAN
BEGIN:VEVENT
UID:bdc4e26a-dc84-11f0-a908-0a58a9feac02
DTSTAMP:20260425T205012Z
SUMMARY:TK Parent Information Day
LOCATION:Torrance High School\, 2200 W Carson St\, Torrance\, CA 90501\, US
 A
URL;VALUE=URI:https://www.tusd.org/schools/arlington/calendar/8826172/tk-pa
 rent-information-day
DTSTART:20260110T170000Z
DTEND:20260110T190000Z
END:VEVENT
END:VCALENDAR
