BEGIN:VCALENDAR
VERSION:2.0
PRODID:SchoolNow
CALSCALE:GREGORIAN
BEGIN:VEVENT
UID:1d3ed6ba-d58c-11f0-824d-0e9224cc7665
DTSTAMP:20260425T205012Z
SUMMARY:TUSD Spelling Bee
URL;VALUE=URI:https://www.tusd.org/schools/arlington/calendar/8821033/tusd-
 spelling-bee
DTSTART:20260123T010000Z
DTEND:20260123T030000Z
END:VEVENT
END:VCALENDAR
