BEGIN:VCALENDAR
VERSION:2.0
PRODID:SchoolNow
CALSCALE:GREGORIAN
BEGIN:VEVENT
UID:b9749a42-c998-11f0-9829-0a58a9feac02
DTSTAMP:20260425T144513Z
SUMMARY:5th Grade 5 Star-Cancelled
LOCATION:cafeteria
URL;VALUE=URI:https://www.tusd.org/schools/arlington/calendar/8809349/5th-g
 rade-5-star-cancelled
DTSTART:20260327T211500Z
DTEND:20260327T222000Z
END:VEVENT
END:VCALENDAR
