BEGIN:VCALENDAR
VERSION:2.0
PRODID:SchoolNow
CALSCALE:GREGORIAN
BEGIN:VEVENT
UID:b947cb66-c998-11f0-9db2-0a58a9feac02
DTSTAMP:20260425T205012Z
SUMMARY:5th Grade 5 Star
LOCATION:cafeteria
URL;VALUE=URI:https://www.tusd.org/schools/arlington/calendar/8809346/5th-g
 rade-5-star
DTSTART:20260130T231500Z
DTEND:20260131T002000Z
END:VEVENT
END:VCALENDAR
