BEGIN:VCALENDAR
VERSION:2.0
PRODID:SchoolNow
CALSCALE:GREGORIAN
BEGIN:VEVENT
UID:b947c738-c998-11f0-bd8b-0a58a9feac02
DTSTAMP:20260425T144513Z
SUMMARY:5th Grade 5 Star
LOCATION:cafeteria
URL;VALUE=URI:https://www.tusd.org/schools/arlington/calendar/8809345/5th-g
 rade-5-star
DTSTART:20260424T221500Z
DTEND:20260424T232000Z
END:VEVENT
END:VCALENDAR
