BEGIN:VCALENDAR
VERSION:2.0
PRODID:SchoolNow
CALSCALE:GREGORIAN
BEGIN:VEVENT
UID:84980e06-b9dc-11f0-aee7-0a58a9feac02
DTSTAMP:20260425T144513Z
SUMMARY:2nd Gr Field Trip - CA Science Center
URL;VALUE=URI:https://www.tusd.org/schools/arlington/calendar/8777691/2nd-g
 r-field-trip-ca-science-center
DTSTART:20260303T180000Z
DTEND:20260303T213000Z
END:VEVENT
END:VCALENDAR
