BEGIN:VCALENDAR
VERSION:2.0
PRODID:SchoolNow
CALSCALE:GREGORIAN
BEGIN:VEVENT
UID:3741ac08-9b3b-11f0-841e-0affe6104ab9
DTSTAMP:20260425T144513Z
SUMMARY:GATE Enrichment (3/4/5)
URL;VALUE=URI:https://www.tusd.org/schools/arlington/calendar/8669317/gate-
 enrichment-3-4-5
DTSTART:20260507T221500Z
DTEND:20260507T231500Z
END:VEVENT
END:VCALENDAR
