BEGIN:VCALENDAR
VERSION:2.0
PRODID:SchoolNow
CALSCALE:GREGORIAN
BEGIN:VEVENT
UID:3741ab0e-9b3b-11f0-8aae-0affe6104ab9
DTSTAMP:20260425T144513Z
SUMMARY:GATE Enrichment (3/4/5)
URL;VALUE=URI:https://www.tusd.org/schools/arlington/calendar/8669316/gate-
 enrichment-3-4-5
DTSTART:20260416T221500Z
DTEND:20260416T231500Z
END:VEVENT
END:VCALENDAR
