BEGIN:VCALENDAR
VERSION:2.0
PRODID:SchoolNow
CALSCALE:GREGORIAN
BEGIN:VEVENT
UID:3741a910-9b3b-11f0-9eee-0affe6104ab9
DTSTAMP:20260425T205012Z
SUMMARY:GATE Enrichment (4/5)
URL;VALUE=URI:https://www.tusd.org/schools/arlington/calendar/8669314/gate-
 enrichment-4-5
DTSTART:20260115T231500Z
DTEND:20260116T001500Z
END:VEVENT
END:VCALENDAR
