BEGIN:VCALENDAR
VERSION:2.0
PRODID:SchoolNow
CALSCALE:GREGORIAN
BEGIN:VEVENT
UID:0f8f8820-845b-11f0-ab6e-0affded5c187
DTSTAMP:20260425T144513Z
SUMMARY:Spring Picture Day
URL;VALUE=URI:https://www.tusd.org/schools/arlington/calendar/8555733/sprin
 g-picture-day
DTSTART;VALUE=DATE:20260324
DTEND;VALUE=DATE:20260325
END:VEVENT
END:VCALENDAR
