BEGIN:VCALENDAR
VERSION:2.0
PRODID:SchoolNow
CALSCALE:GREGORIAN
BEGIN:VEVENT
UID:4e72e300-7175-11f0-b138-0a58a9feac02
DTSTAMP:20260425T144513Z
SUMMARY:Open House Portfolio Date
URL;VALUE=URI:https://www.tusd.org/schools/arlington/calendar/8469828/open-
 house-portfolio-date
DTSTART:20260326T213000Z
DTEND:20260326T223000Z
END:VEVENT
END:VCALENDAR
