BEGIN:VCALENDAR
VERSION:2.0
PRODID:SchoolNow
CALSCALE:GREGORIAN
BEGIN:VEVENT
UID:5e64f7d6-7043-11f0-a78d-0a58a9feac02
DTSTAMP:20260425T144513Z
SUMMARY:Progress Reports posted
URL;VALUE=URI:https://www.tusd.org/schools/arlington/calendar/8466991/progr
 ess-reports-posted
DTSTART;VALUE=DATE:20260320
DTEND;VALUE=DATE:20260321
END:VEVENT
END:VCALENDAR
