BEGIN:VCALENDAR
VERSION:2.0
PRODID:SchoolNow
CALSCALE:GREGORIAN
BEGIN:VEVENT
UID:5e64d774-7043-11f0-a4de-0a58a9feac02
DTSTAMP:20260425T144513Z
SUMMARY:Student Free Day
URL;VALUE=URI:https://www.tusd.org/schools/arlington/calendar/8466988/stude
 nt-free-day
DTSTART;VALUE=DATE:20260306
DTEND;VALUE=DATE:20260307
END:VEVENT
END:VCALENDAR
