BEGIN:VCALENDAR
VERSION:2.0
PRODID:SchoolNow
CALSCALE:GREGORIAN
BEGIN:VEVENT
UID:4e27156e-6b7c-11f0-a9a5-0a58a9feac02
DTSTAMP:20260425T144513Z
SUMMARY:Coffee with the Principal ELMAC
URL;VALUE=URI:https://www.tusd.org/schools/arlington/calendar/8451051/coffe
 e-with-the-principal-elmac
DTSTART:20260511T161500Z
DTEND:20260511T171500Z
END:VEVENT
END:VCALENDAR
