BEGIN:VCALENDAR
VERSION:2.0
PRODID:SchoolNow
CALSCALE:GREGORIAN
BEGIN:VEVENT
UID:02c1f4ae-4bd3-11f0-b2f5-0a58a9feac02
DTSTAMP:20260425T144513Z
SUMMARY:Last Day of School - Dismissal
URL;VALUE=URI:https://www.tusd.org/schools/arlington/calendar/8320582/last-
 day-of-school-dismissal
DTSTART:20260611T190000Z
DTEND:20260611T200000Z
END:VEVENT
END:VCALENDAR
