BEGIN:VCALENDAR
VERSION:2.0
PRODID:SchoolNow
CALSCALE:GREGORIAN
BEGIN:VEVENT
UID:02c1f3dc-4bd3-11f0-8ecb-0a58a9feac02
DTSTAMP:20260425T144513Z
SUMMARY:5th Grade Picnic
LOCATION:Field
URL;VALUE=URI:https://www.tusd.org/schools/arlington/calendar/8320581/5th-g
 rade-picnic
DTSTART:20260610T180000Z
DTEND:20260610T213000Z
END:VEVENT
END:VCALENDAR
