BEGIN:VCALENDAR
VERSION:2.0
PRODID:SchoolNow
CALSCALE:GREGORIAN
BEGIN:VEVENT
UID:02c1f30a-4bd3-11f0-a949-0a58a9feac02
DTSTAMP:20260425T144513Z
SUMMARY:5th Grade Culmination
LOCATION:Playground
URL;VALUE=URI:https://www.tusd.org/schools/arlington/calendar/8320580/5th-g
 rade-culmination
DTSTART:20260610T155000Z
DTEND:20260610T170000Z
END:VEVENT
END:VCALENDAR
