BEGIN:VCALENDAR
VERSION:2.0
PRODID:SchoolNow
CALSCALE:GREGORIAN
BEGIN:VEVENT
UID:02c1f166-4bd3-11f0-ba86-0a58a9feac02
DTSTAMP:20260425T144513Z
SUMMARY:SSC
LOCATION:Zoom
URL;VALUE=URI:https://www.tusd.org/schools/arlington/calendar/8320578/ssc
DTSTART:20260601T223000Z
DTEND:20260601T233000Z
END:VEVENT
END:VCALENDAR
