BEGIN:VCALENDAR
VERSION:2.0
PRODID:SchoolNow
CALSCALE:GREGORIAN
BEGIN:VEVENT
UID:02c1f094-4bd3-11f0-bf99-0a58a9feac02
DTSTAMP:20260425T144513Z
SUMMARY:Track Meet
URL;VALUE=URI:https://www.tusd.org/schools/arlington/calendar/8320577/track
 -meet
DTSTART;VALUE=DATE:20260529
DTEND;VALUE=DATE:20260530
END:VEVENT
END:VCALENDAR
