BEGIN:VCALENDAR
VERSION:2.0
PRODID:SchoolNow
CALSCALE:GREGORIAN
BEGIN:VEVENT
UID:02c1efc2-4bd3-11f0-9092-0a58a9feac02
DTSTAMP:20260425T144513Z
SUMMARY:TK/K Parent Meeting
URL;VALUE=URI:https://www.tusd.org/schools/arlington/calendar/8320576/tk-k-
 parent-meeting
DTSTART:20260528T211000Z
DTEND:20260528T223000Z
END:VEVENT
END:VCALENDAR
