BEGIN:VCALENDAR
VERSION:2.0
PRODID:SchoolNow
CALSCALE:GREGORIAN
BEGIN:VEVENT
UID:02c1eee6-4bd3-11f0-bed9-0a58a9feac02
DTSTAMP:20260425T144513Z
SUMMARY:No School - Memorial Day
URL;VALUE=URI:https://www.tusd.org/schools/arlington/calendar/8320575/no-sc
 hool-memorial-day
DTSTART;VALUE=DATE:20260525
DTEND;VALUE=DATE:20260526
END:VEVENT
END:VCALENDAR
