BEGIN:VCALENDAR
VERSION:2.0
PRODID:SchoolNow
CALSCALE:GREGORIAN
BEGIN:VEVENT
UID:02c1ee0a-4bd3-11f0-af0b-0a58a9feac02
DTSTAMP:20260425T144513Z
SUMMARY:PTA Association AIA Gallery
LOCATION:Cafeteria
URL;VALUE=URI:https://www.tusd.org/schools/arlington/calendar/8320574/pta-a
 ssociation-aia-gallery
DTSTART:20260516T010000Z
DTEND:20260516T023000Z
END:VEVENT
END:VCALENDAR
