BEGIN:VCALENDAR
VERSION:2.0
PRODID:SchoolNow
CALSCALE:GREGORIAN
BEGIN:VEVENT
UID:02c1ed38-4bd3-11f0-a8bf-0a58a9feac02
DTSTAMP:20260425T144513Z
SUMMARY:PTA Board Meeting
URL;VALUE=URI:https://www.tusd.org/schools/arlington/calendar/8320573/pta-b
 oard-meeting
DTSTART:20260507T223000Z
DTEND:20260508T000000Z
END:VEVENT
END:VCALENDAR
