BEGIN:VCALENDAR
VERSION:2.0
PRODID:SchoolNow
CALSCALE:GREGORIAN
BEGIN:VEVENT
UID:02c1eb80-4bd3-11f0-9584-0a58a9feac02
DTSTAMP:20260425T144513Z
SUMMARY:Family Art Night
LOCATION:Cafeteria
URL;VALUE=URI:https://www.tusd.org/schools/arlington/calendar/8320571/famil
 y-art-night
DTSTART:20260501T010000Z
DTEND:20260501T023000Z
END:VEVENT
END:VCALENDAR
